BEGIN:VCALENDAR
PRODID:-//zoom.us//iCalendar Event//EN
VERSION:2.0
CALSCALE:GREGORIAN
METHOD:PUBLISH
CLASS:PUBLIC
BEGIN:VTIMEZONE
TZID:America/Los_Angeles
LAST-MODIFIED:20260306T231828Z
TZURL:https://www.tzurl.org/zoneinfo-outlook/America/Los_Angeles
X-LIC-LOCATION:America/Los_Angeles
BEGIN:DAYLIGHT
TZNAME:PDT
TZOFFSETFROM:-0800
TZOFFSETTO:-0700
DTSTART:19700308T020000
RRULE:FREQ=YEARLY;BYMONTH=3;BYDAY=2SU
END:DAYLIGHT
BEGIN:STANDARD
TZNAME:PST
TZOFFSETFROM:-0700
TZOFFSETTO:-0800
DTSTART:19701101T020000
RRULE:FREQ=YEARLY;BYMONTH=11;BYDAY=1SU
END:STANDARD
END:VTIMEZONE
BEGIN:VEVENT
DTSTAMP:20260309T201554Z
DTSTART;TZID=America/Los_Angeles:20250813T130000
DTEND;TZID=America/Los_Angeles:20250813T140000
SUMMARY:HAPPEN General Membership Meeting
UID:EVENTvxTrETosSJiBs0EHx5k6LQ@zoom.us
DESCRIPTION:HAPPEN BRG is inviting you to a scheduled Zoom meeting.\nJoin
  Zoom Meeting\nhttps://zoom.us/j/93264428273?pwd=0iNtgRLCq5asabFT1nwhcWS
 1Jb56Bg.1\n\nMeeting ID: 932 6442 8273\nPasscode: 339054\n\n---\n\nOne t
 ap mobile\n+12532158782\,\,93264428273# US (Tacoma)\n+12532050468\,\,932
 64428273# US\n\nJoin instructions\nhttps://zoom.us/meetings/93264428273/
 invitations?signature=rKMT8AAYYVAbunv31EqOo1iApxLjtS3VWC9TmxXkCdI\n\n
TZID:America/Los_Angeles
LOCATION:https://zoom.us/j/93264428273?pwd=0iNtgRLCq5asabFT1nwhcWS1Jb56Bg
 .1
RRULE:FREQ=MONTHLY;INTERVAL=1;BYDAY=WE;BYSETPOS=2
BEGIN:VALARM
TRIGGER:-PT10M
ACTION:DISPLAY
DESCRIPTION:Reminder
END:VALARM
END:VEVENT
END:VCALENDAR
