BEGIN:VCALENDAR
PRODID:-//Microsoft Corporation//Outlook 16.0 MIMEDIR//EN
VERSION:2.0
METHOD:REQUEST
X-MS-OLK-FORCEINSPECTOROPEN:TRUE
BEGIN:VTIMEZONE
TZID:Mountain Standard Time
BEGIN:STANDARD
DTSTART:16011104T020000
RRULE:FREQ=YEARLY;BYDAY=1SU;BYMONTH=11
TZOFFSETFROM:-0600
TZOFFSETTO:-0700
END:STANDARD
BEGIN:DAYLIGHT
DTSTART:16010311T020000
RRULE:FREQ=YEARLY;BYDAY=2SU;BYMONTH=3
TZOFFSETFROM:-0700
TZOFFSETTO:-0600
END:DAYLIGHT
END:VTIMEZONE
BEGIN:VEVENT
CLASS:PUBLIC
CREATED:20250930T152215Z
DESCRIPTION:This is a placeholder event for the Community for Data Integrat
	ion (CDI) Monthly Meeting link for Oct 2025 - Sept 2026. \n\nYou are invit
	ed to the Community for Data Integration (CDI) monthly call\, where we sha
	re information and tools to help you work with your data.\n\n\n\n\nFY2026 
	CDI Monthly Meeting Schedule\n\nOctober 8\, 2025\nNovember 12\, 2025\nDece
	mber 10\, 2025\nJanuary 14\, 2026\nFebruary 11\, 2026\nMarch 11\, 2026\nAp
	ril 8\, 2026\nMay 13\, 2026\nJune 10\, 2026\nJuly 8\, 2026\nAugust 12\, 20
	26\nSeptember 9\, 2026\n\nYou can view current meeting information at the 
	CDI Monthly Meeting SharePoint site <https://doimspp.sharepoint.com/sites/
	CommunityforDataIntegration/monthly-meetings/> * or the CDI News public we
	bpage <https://www.usgs.gov/centers/community-for-data-integration-cdi/new
	s> .\n\nA separate email with agenda details will be sent to the Community
	 for Data Integration GovDelivery list <https://gcc02.safelinks.protection
	.outlook.com/?url=https%3A%2F%2Fpublic.govdelivery.com%2Faccounts%2FUSDOIG
	S%2Fsignup%2F34227&data=05%7C02%7Cgs_cdi%40usgs.gov%7Ce89c72ab336b4be6c70d
	08ddeca471b1%7C0693b5ba4b184d7b9341f32f400a5494%7C0%7C0%7C6389269132916376
	35%7CUnknown%7CTWFpbGZsb3d8eyJFbXB0eU1hcGkiOnRydWUsIlYiOiIwLjAuMDAwMCIsIlA
	iOiJXaW4zMiIsIkFOIjoiTWFpbCIsIldUIjoyfQ%3D%3D%7C0%7C%7C%7C&sdata=%2BKGv7wL
	awqdfG%2BR65EgA3VLQ9oERKMgstRNOyek1uew%3D&reserved=0>  before each meeting
	. \n\nFor monthly topics and links to past meeting recordings and presenta
	tions\, visit: \n\nhttps://doimspp.sharepoint.com/sites/CommunityforDataIn
	tegration/monthly-meetings/\n\n* Most CDI members that are external to Dep
	artment of Interior will need to accept an invitation to the CDI SharePoin
	t space before they are able see our SharePoint sites. If you cannot acces
	s our sites you can request access at this form <https://gcc02.safelinks.p
	rotection.outlook.com/?url=https%3A%2F%2Fforms.office.com%2Fg%2Fx1QsgvQABq
	&data=05%7C02%7Cgs_cdi%40usgs.gov%7Ce89c72ab336b4be6c70d08ddeca471b1%7C069
	3b5ba4b184d7b9341f32f400a5494%7C0%7C0%7C638926913291666719%7CUnknown%7CTWF
	pbGZsb3d8eyJFbXB0eU1hcGkiOnRydWUsIlYiOiIwLjAuMDAwMCIsIlAiOiJXaW4zMiIsIkFOI
	joiTWFpbCIsIldUIjoyfQ%3D%3D%7C0%7C%7C%7C&sdata=xCdsmumOfMOVmSb5xrtRhmGz0%2
	B%2F8uVBWOOoiRgF%2BYbA%3D&reserved=0> .\n\nNew to the CDI? Find out more a
	t:\n\nWebpage: http://www.usgs.gov/cdi/ <https://gcc02.safelinks.protectio
	n.outlook.com/?url=https%3A%2F%2Fwww.google.com%2Furl%3Fq%3Dhttp%3A%2F%2Fw
	ww.usgs.gov%2Fcdi%2F%26sa%3DD%26usd%3D2%26usg%3DAOvVaw1yzZ5FVz_likmvfCx0Pn
	SG&data=05%7C02%7Cgs_cdi%40usgs.gov%7Ce89c72ab336b4be6c70d08ddeca471b1%7C0
	693b5ba4b184d7b9341f32f400a5494%7C0%7C0%7C638926913291683975%7CUnknown%7CT
	WFpbGZsb3d8eyJFbXB0eU1hcGkiOnRydWUsIlYiOiIwLjAuMDAwMCIsIlAiOiJXaW4zMiIsIkF
	OIjoiTWFpbCIsIldUIjoyfQ%3D%3D%7C0%7C%7C%7C&sdata=XbgXdrJM9y6V4IMzIEYb4An2V
	YshtBXrG61k4zLnsn8%3D&reserved=0> \n\n**Manage your USGS CDI GovDelivery s
	ettings here. <https://gcc02.safelinks.protection.outlook.com/?url=https%3
	A%2F%2Fpublic.govdelivery.com%2Faccounts%2FUSDOIGS%2Fsubscriber%2Fnew%3Fto
	pic_id%3DUSDOIGS_11&data=05%7C02%7Cgs_cdi%40usgs.gov%7Ce89c72ab336b4be6c70
	d08ddeca471b1%7C0693b5ba4b184d7b9341f32f400a5494%7C0%7C0%7C638926913291698
	976%7CUnknown%7CTWFpbGZsb3d8eyJFbXB0eU1hcGkiOnRydWUsIlYiOiIwLjAuMDAwMCIsIl
	AiOiJXaW4zMiIsIkFOIjoiTWFpbCIsIldUIjoyfQ%3D%3D%7C0%7C%7C%7C&sdata=7mWWj7up
	8WXdtp3CNeQ0wkddcJqcmuaQMGvVRUgxlAs%3D&reserved=0> \n\n\nIf you have any q
	uestions\, contact Leslie Hsu at lhsu@usgs.gov or gs_cdi@usgs.gov.\n\n \n\
	nYou are receiving this invitation because you are in the GS-CDI-Community
	ForDataIntegration Microsoft 365 Group. To modify group notifications or l
	eave the group\, go to your Outlook Groups Page <https://gcc02.safelinks.p
	rotection.outlook.com/?url=https%3A%2F%2Foutlook.office365.com%2Fgroups%2F
	home&data=05%7C02%7Cgs_cdi%40usgs.gov%7Ce89c72ab336b4be6c70d08ddeca471b1%7
	C0693b5ba4b184d7b9341f32f400a5494%7C0%7C0%7C638926913291713093%7CUnknown%7
	CTWFpbGZsb3d8eyJFbXB0eU1hcGkiOnRydWUsIlYiOiIwLjAuMDAwMCIsIlAiOiJXaW4zMiIsI
	kFOIjoiTWFpbCIsIldUIjoyfQ%3D%3D%7C0%7C%7C%7C&sdata=XOsl1AM49nJ9rVwH0otjC6n
	ESw441tRsNcyYZEcZXOE%3D&reserved=0> \, select the group\, then click on th
	e gear icon to access the settings. If you cannot access group settings\, 
	email gs_cdi@usgs.gov\, our CDI Inquiries inbox.\n\n\n\n__________________
	______________________________________________________________\nMicrosoft 
	Teams Need help? <https://gcc02.safelinks.protection.outlook.com/?url=http
	s%3A%2F%2Faka.ms%2FJoinTeamsMeeting%3Fomkt%3Den-US&data=05%7C02%7Cgs_cdi%4
	0usgs.gov%7Ce89c72ab336b4be6c70d08ddeca471b1%7C0693b5ba4b184d7b9341f32f400
	a5494%7C0%7C0%7C638926913291727366%7CUnknown%7CTWFpbGZsb3d8eyJFbXB0eU1hcGk
	iOnRydWUsIlYiOiIwLjAuMDAwMCIsIlAiOiJXaW4zMiIsIkFOIjoiTWFpbCIsIldUIjoyfQ%3D
	%3D%7C0%7C%7C%7C&sdata=JjDJmO7iZYmFKUGqLBTj%2FBX1%2Bn0DJzSpbD2MeTwFgtw%3D&
	reserved=0>  \nJoin the meeting now <https://gcc02.safelinks.protection.ou
	tlook.com/ap/t-59584e83/?url=https%3A%2F%2Fteams.microsoft.com%2Fl%2Fmeetu
	p-join%2F19%253ameeting_NzI2MDlkMWItMzUxNy00MDM0LWFjNzEtOGE5MGMxY2JiMzEx%2
	540thread.v2%2F0%3Fcontext%3D%257b%2522Tid%2522%253a%25220693b5ba-4b18-4d7
	b-9341-f32f400a5494%2522%252c%2522Oid%2522%253a%252237744394-9bc4-4d66-8ef
	d-a53408082e0a%2522%257d&data=05%7C02%7Cgs_cdi%40usgs.gov%7Ce89c72ab336b4b
	e6c70d08ddeca471b1%7C0693b5ba4b184d7b9341f32f400a5494%7C0%7C0%7C6389269132
	91741281%7CUnknown%7CTWFpbGZsb3d8eyJFbXB0eU1hcGkiOnRydWUsIlYiOiIwLjAuMDAwM
	CIsIlAiOiJXaW4zMiIsIkFOIjoiTWFpbCIsIldUIjoyfQ%3D%3D%7C0%7C%7C%7C&sdata=%2B
	cJx8L72yF1XGNX9ktzlkQdG521QSUdJtSYMQibEul0%3D&reserved=0>  \nMeeting ID: 2
	28 322 219 665 9 \nPasscode: YJ9eL3vk \n________________________________\n
	\nDial in by phone \n+1 202-640-1187\,\,862062635# <tel:+12026401187\,\,86
	2062635#>  United States\, Washington \nFind a local number <https://gcc02
	.safelinks.protection.outlook.com/?url=https%3A%2F%2Fdialin.teams.microsof
	t.com%2F4c997179-2249-4e53-b877-e71d83c10c7a%3Fid%3D862062635&data=05%7C02
	%7Cgs_cdi%40usgs.gov%7Ce89c72ab336b4be6c70d08ddeca471b1%7C0693b5ba4b184d7b
	9341f32f400a5494%7C0%7C0%7C638926913291755250%7CUnknown%7CTWFpbGZsb3d8eyJF
	bXB0eU1hcGkiOnRydWUsIlYiOiIwLjAuMDAwMCIsIlAiOiJXaW4zMiIsIkFOIjoiTWFpbCIsIl
	dUIjoyfQ%3D%3D%7C0%7C%7C%7C&sdata=L8E4AMJn9oJchK8P09xROwW32qYP3HHTZZ3UNTbi
	KS8%3D&reserved=0>  \nPhone conference ID: 862 062 635# \nFor organizers: 
	Meeting options <https://gcc02.safelinks.protection.outlook.com/?url=https
	%3A%2F%2Fteams.microsoft.com%2FmeetingOptions%2F%3ForganizerId%3D37744394-
	9bc4-4d66-8efd-a53408082e0a%26tenantId%3D0693b5ba-4b18-4d7b-9341-f32f400a5
	494%26threadId%3D19_meeting_NzI2MDlkMWItMzUxNy00MDM0LWFjNzEtOGE5MGMxY2JiMz
	Ex%40thread.v2%26messageId%3D0%26language%3Den-US&data=05%7C02%7Cgs_cdi%40
	usgs.gov%7Ce89c72ab336b4be6c70d08ddeca471b1%7C0693b5ba4b184d7b9341f32f400a
	5494%7C0%7C0%7C638926913291768909%7CUnknown%7CTWFpbGZsb3d8eyJFbXB0eU1hcGki
	OnRydWUsIlYiOiIwLjAuMDAwMCIsIlAiOiJXaW4zMiIsIkFOIjoiTWFpbCIsIldUIjoyfQ%3D%
	3D%7C0%7C%7C%7C&sdata=pgaajO6yTqk1KkGVrXptGSlnu1auBIjSWLVGUAzl1fA%3D&reser
	ved=0>  | Reset dial-in PIN <https://gcc02.safelinks.protection.outlook.co
	m/?url=https%3A%2F%2Fdialin.teams.microsoft.com%2Fusp%2Fpstnconferencing&d
	ata=05%7C02%7Cgs_cdi%40usgs.gov%7Ce89c72ab336b4be6c70d08ddeca471b1%7C0693b
	5ba4b184d7b9341f32f400a5494%7C0%7C0%7C638926913291782490%7CUnknown%7CTWFpb
	GZsb3d8eyJFbXB0eU1hcGkiOnRydWUsIlYiOiIwLjAuMDAwMCIsIlAiOiJXaW4zMiIsIkFOIjo
	iTWFpbCIsIldUIjoyfQ%3D%3D%7C0%7C%7C%7C&sdata=4jvTHK%2FNjPyz6QaWU%2FeKtcvOa
	G%2F0mPXhlKytT7lTNhw%3D&reserved=0>  \n___________________________________
	_____________________________________________\n
DTEND;TZID="Mountain Standard Time":20251008T103000
DTSTAMP:20250905T174837Z
DTSTART;TZID="Mountain Standard Time":20251008T090000
LAST-MODIFIED:20250930T152215Z
LOCATION:Microsoft Teams Meeting
ORGANIZER;CN="Hsu, Leslie":mailto:lhsu@usgs.gov
PRIORITY:5
RRULE:FREQ=MONTHLY;COUNT=12;BYDAY=WE;BYSETPOS=2
SEQUENCE:3
SUMMARY:CDI Monthly Meeting (FY2026)
TRANSP:OPAQUE
UID:040000008200E00074C5B7101A82E008000000002EA8E79FB916DC01000000000000000
	0100000004F19191218F85F40BAB44FCE79994A70
X-ALT-DESC;FMTTYPE=text/html:<html><head>\n</head>\n<body>\n<div style="bac
	kground-color: rgb(255\, 255\, 255)\; margin: 12pt 0px\;">\n<p style="text
	-align: left\; text-indent: 0px\; margin: 0in\; font-family: Aptos\, sans-
	serif\; font-size: 12pt\;">\n<span style="font-family: Arial\, sans-serif\
	; font-size: 11pt\; color: black\;">This is a&nbsp\;placeholder event for 
	the Community for Data Integration (CDI) Monthly Meeting link for Oct 2025
	 - Sept 2026.&nbsp\;</span></p>\n</div>\n<div style="background-color: rgb
	(255\, 255\, 255)\; margin: 12pt 0px\;">\n<p style="text-align: left\; tex
	t-indent: 0px\; margin: 0in\; font-family: Aptos\, sans-serif\; font-size:
	 12pt\;">\n<span style="font-family: Arial\, sans-serif\; font-size: 11pt\
	; color: black\;">You are invited to the Community for Data Integration (C
	DI) monthly call\, where we share information and tools to help you work w
	ith your data.</span></p>\n<p style="text-align: left\; text-indent: 0px\;
	 margin: 0in\; font-family: Aptos\, sans-serif\; font-size: 12pt\;">\n<spa
	n style="font-family: Arial\, sans-serif\; font-size: 11pt\; color: black\
	;"><br>\n</span></p>\n<p style="text-align: left\; text-indent: 0px\; marg
	in-right: 0px\; margin-left: 0px\; font-family: Aptos\, sans-serif\; font-
	size: 12pt\;">\n<span style="font-family: Arial\, sans-serif\; font-size: 
	11pt\; color: black\;"><b>FY2026 CDI Monthly Meeting Schedule</b></span></
	p>\n<div style="text-align: left\; text-indent: 0px\; margin: 1em 0px\; fo
	nt-family: Arial\, sans-serif\; font-size: 11pt\; color: black\;">\nOctobe
	r 8\, 2025<br>\nNovember 12\, 2025<br>\nDecember 10\, 2025<br>\nJanuary 14
	\, 2026<br>\nFebruary 11\, 2026<br>\nMarch 11\, 2026<br>\nApril 8\, 2026<b
	r>\nMay 13\, 2026<br>\nJune 10\, 2026<br>\nJuly 8\, 2026<br>\nAugust 12\, 
	2026<br>\nSeptember 9\, 2026</div>\n</div>\n<div style="background-color: 
	rgb(255\, 255\, 255)\; margin: 12pt 0px\;">\n<p style="text-align: left\; 
	text-indent: 0px\; margin: 0in\; font-family: Aptos\, sans-serif\; font-si
	ze: 12pt\;">\n<span style="font-family: Arial\, sans-serif\; font-size: 11
	pt\; color: black\;">You can view current meeting information at the\n</sp
	an><span style="color: blue\;"><u><a style="color: blue\; margin: 0px\;" d
	ata-auth="NotApplicable" data-linkindex="0" rel="noopener noreferrer" titl
	e="Original URL: https://doimspp.sharepoint.com/sites/CommunityforDataInte
	gration/monthly-meetings/. Click or tap if you trust this link." class="x_
	x_x_x_OWAAutoLink" id="OWAe97f61ae-dbbc-61aa-4d70-860b4745ab7d" target="_b
	lank" href="https://doimspp.sharepoint.com/sites/CommunityforDataIntegrati
	on/monthly-meetings/">CDI\n Monthly Meeting SharePoint site</a></u></span>
	<span style="font-family: Arial\, sans-serif\; font-size: 11pt\; color: bl
	ack\;">* or the\n</span><span style="font-family: Arial\, sans-serif\; fon
	t-size: 11pt\; color: blue\;"><u><a style="color: blue\; margin: 0px\;" da
	ta-auth="NotApplicable" data-linkindex="1" rel="noopener noreferrer" title
	="https://www.usgs.gov/centers/community-for-data-integration-cdi/news" cl
	ass="x_x_x_x_OWAAutoLink" id="OWA026bf346-f631-94fc-7888-2581f0265e74" tar
	get="_blank" href="https://www.usgs.gov/centers/community-for-data-integra
	tion-cdi/news">CDI\n News public webpage</a></u></span><span style="font-f
	amily: Arial\, sans-serif\; font-size: 11pt\; color: black\;">.</span></p>
	\n</div>\n<div style="background-color: rgb(255\, 255\, 255)\; margin: 12p
	t 0px\;">\n<p style="text-align: left\; text-indent: 0px\; margin: 0in\; f
	ont-family: Aptos\, sans-serif\; font-size: 12pt\;">\n<span style="font-fa
	mily: Arial\, sans-serif\; font-size: 11pt\; color: black\;">A separate em
	ail with agenda details will be sent to the\n</span><span style="font-fami
	ly: Arial\, sans-serif\; font-size: 11pt\; color: blue\;"><u><a style="col
	or: blue\; margin: 0px\;" data-auth="NotApplicable" data-linkindex="2" rel
	="noopener noreferrer" title="Original URL: https://public.govdelivery.com
	/accounts/USDOIGS/signup/34227. Click or tap if you trust this link." clas
	s="x_x_x_x_OWAAutoLink" id="OWA899cb53f-cc50-875f-99df-638f46708012" targe
	t="_blank" href="https://gcc02.safelinks.protection.outlook.com/?url=https
	%3A%2F%2Fpublic.govdelivery.com%2Faccounts%2FUSDOIGS%2Fsignup%2F34227&amp\
	;data=05%7C02%7Cgs_cdi%40usgs.gov%7Ce89c72ab336b4be6c70d08ddeca471b1%7C069
	3b5ba4b184d7b9341f32f400a5494%7C0%7C0%7C638926913291637635%7CUnknown%7CTWF
	pbGZsb3d8eyJFbXB0eU1hcGkiOnRydWUsIlYiOiIwLjAuMDAwMCIsIlAiOiJXaW4zMiIsIkFOI
	joiTWFpbCIsIldUIjoyfQ%3D%3D%7C0%7C%7C%7C&amp\;sdata=%2BKGv7wLawqdfG%2BR65E
	gA3VLQ9oERKMgstRNOyek1uew%3D&amp\;reserved=0" originalsrc="https://public.
	govdelivery.com/accounts/USDOIGS/signup/34227">Community\n for Data Integr
	ation GovDelivery list</a></u></span><span style="font-family: Arial\, san
	s-serif\; font-size: 11pt\; color: black\;">&nbsp\;before each meeting.&nb
	sp\;</span></p>\n</div>\n<div style="background-color: rgb(255\, 255\, 255
	)\; margin: 12pt 0px\;">\n<p style="text-align: left\; text-indent: 0px\; 
	margin: 0in\; font-family: Aptos\, sans-serif\; font-size: 12pt\;">\n<span
	 style="font-family: Arial\, sans-serif\; font-size: 11pt\; color: black\;
	"><b>For monthly topics and links to past meeting recordings and presentat
	ions\, visit:&nbsp\;</b></span></p>\n</div>\n<div style="background-color:
	 rgb(255\, 255\, 255)\; margin: 12pt 0px\;">\n<p style="text-align: left\;
	 text-indent: 0px\; margin: 0in 0in 12pt\; font-family: Aptos\, sans-serif
	\; font-size: 12pt\;">\n<span style="color: blue\;"><u><a style="color: bl
	ue\; margin: 0px\;" data-auth="NotApplicable" data-linkindex="3" rel="noop
	ener noreferrer" title="Original URL: https://doimspp.sharepoint.com/sites
	/CommunityforDataIntegration/monthly-meetings/. Click or tap if you trust 
	this link." class="x_x_x_x_OWAAutoLink" id="OWA6b2ac508-719a-1c70-bd95-36c
	e048971f3" target="_blank" href="https://doimspp.sharepoint.com/sites/Comm
	unityforDataIntegration/monthly-meetings/">https://doimspp.sharepoint.com/
	sites/CommunityforDataIntegration/monthly-meetings/</a></u></span></p>\n</
	div>\n<div style="background-color: rgb(255\, 255\, 255)\; margin: 12pt 0p
	x\;">\n<p style="text-align: left\; text-indent: 0px\; margin: 0in\; font-
	family: Aptos\, sans-serif\; font-size: 12pt\;">\n<span style="font-family
	: Arial\, sans-serif\; font-size: 11pt\; color: black\;"><i>*&nbsp\;Most C
	DI members that are external to Department of Interior will need to accept
	 an invitation to the CDI SharePoint space&nbsp\;before they are able see 
	our SharePoint sites. If you\n cannot access our sites you can </i></span>
	<span style="font-family: Arial\, sans-serif\; font-size: 11pt\; color: bl
	ue\;"><i><u><a style="color: blue\; margin: 0px\;" data-auth="NotApplicabl
	e" data-linkindex="4" rel="noopener noreferrer" title="Original URL: https
	://forms.office.com/g/x1QsgvQABq. Click or tap if you trust this link." cl
	ass="x_x_x_x_OWAAutoLink" id="OWA4f946d61-2fdc-56df-cf5d-eba74dcb0f12" tar
	get="_blank" href="https://gcc02.safelinks.protection.outlook.com/?url=htt
	ps%3A%2F%2Fforms.office.com%2Fg%2Fx1QsgvQABq&amp\;data=05%7C02%7Cgs_cdi%40
	usgs.gov%7Ce89c72ab336b4be6c70d08ddeca471b1%7C0693b5ba4b184d7b9341f32f400a
	5494%7C0%7C0%7C638926913291666719%7CUnknown%7CTWFpbGZsb3d8eyJFbXB0eU1hcGki
	OnRydWUsIlYiOiIwLjAuMDAwMCIsIlAiOiJXaW4zMiIsIkFOIjoiTWFpbCIsIldUIjoyfQ%3D%
	3D%7C0%7C%7C%7C&amp\;sdata=xCdsmumOfMOVmSb5xrtRhmGz0%2B%2F8uVBWOOoiRgF%2BY
	bA%3D&amp\;reserved=0" originalsrc="https://forms.office.com/g/x1QsgvQABq"
	>request\n access at this form</a></u></i></span><span style="font-family:
	 Arial\, sans-serif\; font-size: 11pt\; color: black\;"><i>.</i></span></p
	>\n</div>\n<div style="background-color: rgb(255\, 255\, 255)\; margin: 12
	pt 0px\;">\n<p style="text-align: left\; text-indent: 0px\; margin: 0in\; 
	font-family: Aptos\, sans-serif\; font-size: 12pt\;">\n<span style="font-f
	amily: Arial\, sans-serif\; font-size: 11pt\; color: black\;"><b>New to th
	e CDI? Find out more at:</b></span></p>\n</div>\n<div style="background-co
	lor: rgb(255\, 255\, 255)\; margin: 12pt 0px\;">\n<p style="text-align: le
	ft\; text-indent: 0px\; margin: 0in\; font-family: Aptos\, sans-serif\; fo
	nt-size: 12pt\;">\n<span style="font-family: Arial\, sans-serif\; font-siz
	e: 11pt\; color: black\;">Webpage:\n</span><span style="font-family: Arial
	\, sans-serif\; font-size: 11pt\; color: blue\;"><u><a style="color: blue\
	; margin: 0px\;" data-auth="NotApplicable" data-linkindex="5" rel="noopene
	r noreferrer" title="Original URL: https://www.google.com/url?q=http://www
	.usgs.gov/cdi/&amp\;sa=D&amp\;usd=2&amp\;usg=AOvVaw1yzZ5FVz_likmvfCx0PnSG.
	 Click or tap if you trust this link." class="x_x_x_x_OWAAutoLink" id="OWA
	f8c398d2-e75f-b880-f630-2e3ba7423061" target="_blank" href="https://gcc02.
	safelinks.protection.outlook.com/?url=https%3A%2F%2Fwww.google.com%2Furl%3
	Fq%3Dhttp%3A%2F%2Fwww.usgs.gov%2Fcdi%2F%26sa%3DD%26usd%3D2%26usg%3DAOvVaw1
	yzZ5FVz_likmvfCx0PnSG&amp\;data=05%7C02%7Cgs_cdi%40usgs.gov%7Ce89c72ab336b
	4be6c70d08ddeca471b1%7C0693b5ba4b184d7b9341f32f400a5494%7C0%7C0%7C63892691
	3291683975%7CUnknown%7CTWFpbGZsb3d8eyJFbXB0eU1hcGkiOnRydWUsIlYiOiIwLjAuMDA
	wMCIsIlAiOiJXaW4zMiIsIkFOIjoiTWFpbCIsIldUIjoyfQ%3D%3D%7C0%7C%7C%7C&amp\;sd
	ata=XbgXdrJM9y6V4IMzIEYb4An2VYshtBXrG61k4zLnsn8%3D&amp\;reserved=0" origin
	alsrc="https://www.google.com/url?q=http://www.usgs.gov/cdi/&amp\;sa=D&amp
	\;usd=2&amp\;usg=AOvVaw1yzZ5FVz_likmvfCx0PnSG">http://www.usgs.gov/cdi/</a
	></u></span></p>\n</div>\n<div style="background-color: rgb(255\, 255\, 25
	5)\; margin: 12pt 0px\;">\n<p style="text-align: left\; text-indent: 0px\;
	 margin: 0in\; font-family: Aptos\, sans-serif\; font-size: 12pt\;">\n<spa
	n style="font-family: Arial\, sans-serif\; font-size: 11pt\; color: black\
	;">**</span><span style="font-family: Arial\, sans-serif\; font-size: 11pt
	\; color: blue\;"><u><a style="color: blue\; margin: 0px\;" data-auth="Not
	Applicable" data-linkindex="6" rel="noopener noreferrer" title="Original U
	RL: https://public.govdelivery.com/accounts/USDOIGS/subscriber/new?topic_i
	d=USDOIGS_11. Click or tap if you trust this link." class="x_x_x_x_OWAAuto
	Link" id="OWAd2ba0172-e419-821c-513a-7a62732cdb2c" target="_blank" href="h
	ttps://gcc02.safelinks.protection.outlook.com/?url=https%3A%2F%2Fpublic.go
	vdelivery.com%2Faccounts%2FUSDOIGS%2Fsubscriber%2Fnew%3Ftopic_id%3DUSDOIGS
	_11&amp\;data=05%7C02%7Cgs_cdi%40usgs.gov%7Ce89c72ab336b4be6c70d08ddeca471
	b1%7C0693b5ba4b184d7b9341f32f400a5494%7C0%7C0%7C638926913291698976%7CUnkno
	wn%7CTWFpbGZsb3d8eyJFbXB0eU1hcGkiOnRydWUsIlYiOiIwLjAuMDAwMCIsIlAiOiJXaW4zM
	iIsIkFOIjoiTWFpbCIsIldUIjoyfQ%3D%3D%7C0%7C%7C%7C&amp\;sdata=7mWWj7up8WXdtp
	3CNeQ0wkddcJqcmuaQMGvVRUgxlAs%3D&amp\;reserved=0" originalsrc="https://pub
	lic.govdelivery.com/accounts/USDOIGS/subscriber/new?topic_id=USDOIGS_11">M
	anage\n your USGS CDI GovDelivery settings here.</a></u></span></p>\n</div
	>\n<div style="background-color: rgb(255\, 255\, 255)\; margin: 12pt 0px\;
	">\n<p style="text-align: left\; text-indent: 0px\; margin: 0in\; font-fam
	ily: Aptos\, sans-serif\; font-size: 12pt\;">\n<span style="font-family: A
	rial\, sans-serif\; font-size: 11pt\; color: black\;"><br>\nIf you have an
	y questions\, contact Leslie Hsu at&nbsp\;lhsu@usgs.gov&nbsp\;or gs_cdi@us
	gs.gov.</span></p>\n</div>\n<p style="text-align: left\; text-indent: 0px\
	; background-color: rgb(255\, 255\, 255)\; margin: 0in\; font-family: Apto
	s\, Aptos_EmbeddedFont\, Aptos_MSFontService\, Calibri\, Helvetica\, sans-
	serif\; font-size: 12pt\; color: rgb(0\, 0\, 0)\;">\n<span style="font-fam
	ily: Arial\, sans-serif\; font-size: 11pt\; color: black\;">&nbsp\;</span>
	</p>\n<p style="text-align: left\; text-indent: 0px\; background-color: rg
	b(255\, 255\, 255)\; margin: 0in\; font-family: Aptos\, Aptos_EmbeddedFont
	\, Aptos_MSFontService\, Calibri\, Helvetica\, sans-serif\; font-size: 12p
	t\; color: rgb(0\, 0\, 0)\;">\n<span style="font-family: Arial\, sans-seri
	f\; font-size: 11pt\; color: black\;">You are receiving this invitation be
	cause you are in the GS-CDI-CommunityForDataIntegration Microsoft 365 Grou
	p. To modify group notifications or leave the group\, go to your\n<a style
	="margin-top: 0px\; margin-bottom: 0px\;" title="https://outlook.office365
	.com/groups/home" href="https://gcc02.safelinks.protection.outlook.com/?ur
	l=https%3A%2F%2Foutlook.office365.com%2Fgroups%2Fhome&amp\;data=05%7C02%7C
	gs_cdi%40usgs.gov%7Ce89c72ab336b4be6c70d08ddeca471b1%7C0693b5ba4b184d7b934
	1f32f400a5494%7C0%7C0%7C638926913291713093%7CUnknown%7CTWFpbGZsb3d8eyJFbXB
	0eU1hcGkiOnRydWUsIlYiOiIwLjAuMDAwMCIsIlAiOiJXaW4zMiIsIkFOIjoiTWFpbCIsIldUI
	joyfQ%3D%3D%7C0%7C%7C%7C&amp\;sdata=XOsl1AM49nJ9rVwH0otjC6nESw441tRsNcyYZE
	cZXOE%3D&amp\;reserved=0" originalsrc="https://outlook.office365.com/group
	s/home">\nOutlook Groups Page</a>\,&nbsp\;select the group\, then click on
	 the gear icon to access the settings. If you cannot access group settings
	\, email gs_cdi@usgs.gov\, our CDI Inquiries inbox.</span></p>\n<div style
	="font-family: Aptos\, Aptos_EmbeddedFont\, Aptos_MSFontService\, Calibri\
	, Helvetica\, sans-serif\; font-size: 12pt\; color: rgb(0\, 0\, 0)\;">\n<b
	r>\n</div>\n<br>\n<div style="max-width: 600px\; color: #242424\; font-fam
	ily:'Segoe UI'\,'Helvetica Neue'\,Helvetica\,Arial\,sans-serif" class="me-
	email-text" lang="en-US">\n<div style="margin-bottom:24px\;overflow:hidden
	\;white-space:nowrap\;" aria-hidden="true">\n_____________________________
	___________________________________________________</div>\n<div style="mar
	gin-bottom: 12px\;"><span class="me-email-text" style="font-size: 24px\;fo
	nt-weight: 700\; margin-right:12px\;">Microsoft Teams</span>\n<a id="meet_
	invite_block.action.help" class="me-email-link" style="font-size:14px\; te
	xt-decoration:underline\; color: #5B5FC7\;" href="https://gcc02.safelinks.
	protection.outlook.com/?url=https%3A%2F%2Faka.ms%2FJoinTeamsMeeting%3Fomkt
	%3Den-US&amp\;data=05%7C02%7Cgs_cdi%40usgs.gov%7Ce89c72ab336b4be6c70d08dde
	ca471b1%7C0693b5ba4b184d7b9341f32f400a5494%7C0%7C0%7C638926913291727366%7C
	Unknown%7CTWFpbGZsb3d8eyJFbXB0eU1hcGkiOnRydWUsIlYiOiIwLjAuMDAwMCIsIlAiOiJX
	aW4zMiIsIkFOIjoiTWFpbCIsIldUIjoyfQ%3D%3D%7C0%7C%7C%7C&amp\;sdata=JjDJmO7iZ
	YmFKUGqLBTj%2FBX1%2Bn0DJzSpbD2MeTwFgtw%3D&amp\;reserved=0" originalsrc="ht
	tps://aka.ms/JoinTeamsMeeting?omkt=en-US">\nNeed help?</a> </div>\n<div st
	yle="margin-bottom: 6px\;"><a id="meet_invite_block.action.join_link" titl
	e="Meeting join link" class="me-email-headline" style="font-size: 20px\; f
	ont-weight:600\; text-decoration: underline\; color: #5B5FC7\;" href="http
	s://gcc02.safelinks.protection.outlook.com/ap/t-59584e83/?url=https%3A%2F%
	2Fteams.microsoft.com%2Fl%2Fmeetup-join%2F19%253ameeting_NzI2MDlkMWItMzUxN
	y00MDM0LWFjNzEtOGE5MGMxY2JiMzEx%2540thread.v2%2F0%3Fcontext%3D%257b%2522Ti
	d%2522%253a%25220693b5ba-4b18-4d7b-9341-f32f400a5494%2522%252c%2522Oid%252
	2%253a%252237744394-9bc4-4d66-8efd-a53408082e0a%2522%257d&amp\;data=05%7C0
	2%7Cgs_cdi%40usgs.gov%7Ce89c72ab336b4be6c70d08ddeca471b1%7C0693b5ba4b184d7
	b9341f32f400a5494%7C0%7C0%7C638926913291741281%7CUnknown%7CTWFpbGZsb3d8eyJ
	FbXB0eU1hcGkiOnRydWUsIlYiOiIwLjAuMDAwMCIsIlAiOiJXaW4zMiIsIkFOIjoiTWFpbCIsI
	ldUIjoyfQ%3D%3D%7C0%7C%7C%7C&amp\;sdata=%2BcJx8L72yF1XGNX9ktzlkQdG521QSUdJ
	tSYMQibEul0%3D&amp\;reserved=0" originalsrc="https://teams.microsoft.com/l
	/meetup-join/19%3ameeting_NzI2MDlkMWItMzUxNy00MDM0LWFjNzEtOGE5MGMxY2JiMzEx
	%40thread.v2/0?context=%7b%22Tid%22%3a%220693b5ba-4b18-4d7b-9341-f32f400a5
	494%22%2c%22Oid%22%3a%2237744394-9bc4-4d66-8efd-a53408082e0a%22%7d" target
	="_blank" rel="noreferrer noopener">Join\n the meeting now</a> </div>\n<di
	v style="margin-bottom: 6px\;"><span class="me-email-text-secondary" style
	="font-size: 14px\; color: #616161\;">Meeting ID:\n</span><span class="me-
	email-text" style="font-size: 14px\; color: #242424\;">228 322 219 665 9</
	span>\n</div>\n<div style="margin-bottom: 24px\;"><span class="me-email-te
	xt-secondary" style="font-size: 14px\; color: #616161\;">Passcode:\n</span
	><span class="me-email-text" style="font-size: 14px\; color: #242424\;">YJ
	9eL3vk</span>\n</div>\n<div style="margin-bottom: 24px\; max-width: 532px\
	;">\n<hr style="border: 0\; background: #D1D1D1\; height: 1px\;">\n</div>\
	n<div>\n<div style="margin-bottom: 6px\;"><span class="me-email-text" styl
	e="font-size: 16px\; color: #242424\; font-weight: 600\; margin-right: 4px
	\;">Dial in by phone</span>\n</div>\n<div style="margin-bottom: 6px\;"><a 
	id="meet_invite_block.action.join_phone_number1" class="me-email-link" sty
	le="font-size: 14px\; text-decoration: underline\; color: #5B5FC7\; margin
	-right: 6px\;" href="tel:+12026401187\,\,862062635#">+1 202-640-1187\,\,86
	2062635#</a>\n<span class="me-email-text" style="font-size: 14px\; color: 
	#616161\;">United States\, Washington</span>\n</div>\n<div style="margin-b
	ottom: 6px\;"><a id="meet_invite_block.action.join_phone_find_local_number
	" class="me-email-link" style="font-size: 14px\; text-decoration: underlin
	e\; color: #5B5FC7" href="https://gcc02.safelinks.protection.outlook.com/?
	url=https%3A%2F%2Fdialin.teams.microsoft.com%2F4c997179-2249-4e53-b877-e71
	d83c10c7a%3Fid%3D862062635&amp\;data=05%7C02%7Cgs_cdi%40usgs.gov%7Ce89c72a
	b336b4be6c70d08ddeca471b1%7C0693b5ba4b184d7b9341f32f400a5494%7C0%7C0%7C638
	926913291755250%7CUnknown%7CTWFpbGZsb3d8eyJFbXB0eU1hcGkiOnRydWUsIlYiOiIwLj
	AuMDAwMCIsIlAiOiJXaW4zMiIsIkFOIjoiTWFpbCIsIldUIjoyfQ%3D%3D%7C0%7C%7C%7C&am
	p\;sdata=L8E4AMJn9oJchK8P09xROwW32qYP3HHTZZ3UNTbiKS8%3D&amp\;reserved=0" o
	riginalsrc="https://dialin.teams.microsoft.com/4c997179-2249-4e53-b877-e71
	d83c10c7a?id=862062635">Find\n a local number</a> </div>\n</div>\n<div sty
	le="margin-bottom: 24px\;"><span class="me-email-text-secondary" style="fo
	nt-size: 14px\; color: #616161\;">Phone conference ID:\n</span><span class
	="me-email-text" style="font-size: 14px\; color: #242424\;">862 062 635#</
	span>\n</div>\n<div><span class="me-email-text-secondary" style="font-size
	: 14px\; color: #616161\;">For organizers:\n</span><a id="meet_invite_bloc
	k.action.organizer_meet_options" class="me-email-link" style="font-size: 1
	4px\; text-decoration: underline\; color: #5B5FC7\;" target="_blank" href=
	"https://gcc02.safelinks.protection.outlook.com/?url=https%3A%2F%2Fteams.m
	icrosoft.com%2FmeetingOptions%2F%3ForganizerId%3D37744394-9bc4-4d66-8efd-a
	53408082e0a%26tenantId%3D0693b5ba-4b18-4d7b-9341-f32f400a5494%26threadId%3
	D19_meeting_NzI2MDlkMWItMzUxNy00MDM0LWFjNzEtOGE5MGMxY2JiMzEx%40thread.v2%2
	6messageId%3D0%26language%3Den-US&amp\;data=05%7C02%7Cgs_cdi%40usgs.gov%7C
	e89c72ab336b4be6c70d08ddeca471b1%7C0693b5ba4b184d7b9341f32f400a5494%7C0%7C
	0%7C638926913291768909%7CUnknown%7CTWFpbGZsb3d8eyJFbXB0eU1hcGkiOnRydWUsIlY
	iOiIwLjAuMDAwMCIsIlAiOiJXaW4zMiIsIkFOIjoiTWFpbCIsIldUIjoyfQ%3D%3D%7C0%7C%7
	C%7C&amp\;sdata=pgaajO6yTqk1KkGVrXptGSlnu1auBIjSWLVGUAzl1fA%3D&amp\;reserv
	ed=0" originalsrc="https://teams.microsoft.com/meetingOptions/?organizerId
	=37744394-9bc4-4d66-8efd-a53408082e0a&amp\;tenantId=0693b5ba-4b18-4d7b-934
	1-f32f400a5494&amp\;threadId=19_meeting_NzI2MDlkMWItMzUxNy00MDM0LWFjNzEtOG
	E5MGMxY2JiMzEx@thread.v2&amp\;messageId=0&amp\;language=en-US" rel="norefe
	rrer noopener">Meeting\n options</a> <span style="color: #D1D1D1">|</span>
	 <a id="meet_invite_block.action.organizer_reset_dialin_pin" class="me-ema
	il-link" style="font-size: 14px\; text-decoration: underline\; color: #5B5
	FC7\;" target="_blank" href="https://gcc02.safelinks.protection.outlook.co
	m/?url=https%3A%2F%2Fdialin.teams.microsoft.com%2Fusp%2Fpstnconferencing&a
	mp\;data=05%7C02%7Cgs_cdi%40usgs.gov%7Ce89c72ab336b4be6c70d08ddeca471b1%7C
	0693b5ba4b184d7b9341f32f400a5494%7C0%7C0%7C638926913291782490%7CUnknown%7C
	TWFpbGZsb3d8eyJFbXB0eU1hcGkiOnRydWUsIlYiOiIwLjAuMDAwMCIsIlAiOiJXaW4zMiIsIk
	FOIjoiTWFpbCIsIldUIjoyfQ%3D%3D%7C0%7C%7C%7C&amp\;sdata=4jvTHK%2FNjPyz6QaWU
	%2FeKtcvOaG%2F0mPXhlKytT7lTNhw%3D&amp\;reserved=0" originalsrc="https://di
	alin.teams.microsoft.com/usp/pstnconferencing" rel="noreferrer noopener">\
	nReset dial-in PIN</a> </div>\n<div style="margin-top: 24px\; margin-botto
	m: 6px\;"></div>\n<div style="margin-bottom: 24px\;"></div>\n<div style="m
	argin-bottom:24px\;overflow:hidden\;white-space:nowrap\;" aria-hidden="tru
	e">\n_____________________________________________________________________
	___________</div>\n</div>\n</body>\n</html>\n
X-MICROSOFT-CDO-BUSYSTATUS:BUSY
X-MICROSOFT-CDO-IMPORTANCE:1
X-MICROSOFT-CDO-INTENDEDSTATUS:BUSY
X-MICROSOFT-DISALLOW-COUNTER:FALSE
X-MS-OLK-APPTLASTSEQUENCE:3
X-MS-OLK-APPTSEQTIME:20250905T174837Z
BEGIN:VALARM
TRIGGER:-PT15M
ACTION:DISPLAY
DESCRIPTION:Reminder
END:VALARM
END:VEVENT
END:VCALENDAR
