Workbook

Sheet CEIS
C1: CEIS Student Log | L1: =CONCATENATE((MID(CELL("Filename",Q7),SEARCH("]",CELL("Filename",Q7),1)+1,100))," ","Student Log") -> CEIS Student Log
B2: Count Totals | C2: =COUNTA(C5:C4988) -> 0 | D2: =COUNTA(D5:D4988) -> 0 | E2: =COUNTA(E5:E4988) -> 0 | F2: =COUNTA(F5:F4988) -> 0 | G2: =COUNTA(G5:G4988) -> 0 | H2: =COUNTA(H5:H4988) -> 0 | I2: =COUNTA(I5:I4988) -> 0 | J2: =COUNTA(J5:J4988) -> 0 | ... O2: =COUNTA(O5:O4988) -> 0
C3: 2022-2023 | D3: 2022-2023 | E3: 2022-2023 | F3: 2022-2023 | G3: 2021-2022 | H3: 2021-2022 | I3: 2021-2022 | J3: 2020-21 | K3: 2020-21 | L3: 2020-21 | M3: 2019-20 | N3: 2019-20 | O3: 2019-20
A4: Student ID No. | B4: Grade Level | C4: Non-EC at beginning of CEIS (Yes/No) | D4: Received CEIS Services | E4: Identified EC while receiving CEIS Services (Yes/No) | F4: Exited or Moved during 2022-2023 | G4: Received CEIS | H4: Received EC Services | I4: Exited or Moved | J4: Received CEIS | K4: Received EC Services | L4: Exited or Moved | M4: Received CEIS | N4: Received EC Services | O4: Exited or Moved

Sheet STAR Elem.
A1: =CONCATENATE((MID(CELL("Filename",J7),SEARCH("]",CELL("Filename",J7),1)+1,100))," ","Student Log") -> STAR Elem. Student Log
A2: Counts | C2: =COUNTA(C5:C4985) -> 14 | D2: =COUNTA(D5:D4985) -> 10 | E2: =COUNTA(E5:E4985) -> 3 | F2: =COUNTA(F5:F4985) -> 16 | G2: =COUNTA(G5:G4985) -> 8 | H2: =COUNTA(H5:H4985) -> 2 | I2: =COUNTA(I5:I4985) -> 14 | J2: =COUNTA(J5:J4985) -> 4
B3: 2016-17 | C3: 2016-17 | D3: 2016-17 | E3: 2015-16 | F3: 2015-16 | G3: 2015-16 | H3: 2014-15 | I3: 2014-15 | J3: 2014-15
A4: Name | B4: Exited or Moved | C4: Received CEIS | D4: Received EC Services | E4: Exited or Moved | F4: Received CEIS | G4: Received EC Services | H4: Exited or Moved | I4: Received CEIS | J4: Received EC Services
A5: Kathie | I5: X
A6: Joe | H6: Exited or Moved | I6: X | J6: X
A7: Jeana | H7: Exited or Moved | I7: X | J7: X
A8: Alexis | E8: Exited or Moved | G8: X | I8: X | J8: X
A9: Tora | D9: X | G9: X | I9: X | J9: X
A10: Faith | I10: X
A11: Maryellen | G11: X | I11: X
A12: Ela | I12: X
A13: Jacob | C13: X | F13: X | I13: X
A14: France | F14: X | I14: X
A15: Daphne | F15: X | I15: X
A16: Robbie | I16: X
A17: Marge | D17: X | I17: X
A18: Raymond | C18: X | I18: X
A19: Mila | F19: X
A20: Blossom | F20: X
A21: Katrice | E21: Exited or Moved | F21: X | G21: X
A22: Rosy | D22: X | F22: X | G22: X
A23: Kanisha | D23: X | F23: X | G23: X
A24: Bennie | D24: X | F24: X | G24: X
A25: Tonita | E25: Exited or Moved | F25: X | G25: X
A26: Maryln | C26: X | F26: X
A27: Milagros | C27: X | F27: X
A28: Jessika | C28: X | F28: X
A29: Melia | C29: X | F29: X
A30: Cherise | D30: X | F30: X
A31: Jeane | D31: X | F31: X
A32: Garrett | C32: X
A33: Hildred | C33: X
A34: Maggie | C34: X
A35: Jammie | C35: X
A36: Sharlene | C36: X | D36: X
A37: Markita | C37: X | D37: X
A38: Edmond | C38: X | D38: X
A39: Evia | C39: X

Sheet Top MS
A1: =CONCATENATE((MID(CELL("Filename",J8),SEARCH("]",CELL("Filename",J8),1)+1,100))," ","Student Log") -> Top MS Student Log
A2: Counts | C2: =COUNTA(C5:C4982) -> 13 | D2: =COUNTA(D5:D4982) -> 8 | E2: =COUNTA(E5:E4982) -> 3 | F2: =COUNTA(F5:F4982) -> 13 | G2: =COUNTA(G5:G4982) -> 8 | H2: =COUNTA(H5:H4982) -> 2 | I2: =COUNTA(I5:I4982) -> 13 | J2: =COUNTA(J5:J4982) -> 4
B3: 2016-17 | C3: 2016-17 | D3: 2016-17 | E3: 2015-16 | F3: 2015-16 | G3: 2015-16 | H3: 2014-15 | I3: 2014-15 | J3: 2014-15
A4: Name | B4: Exited or Moved | C4: Received CEIS | D4: Received EC Services | E4: Exited or Moved | F4: Received CEIS | G4: Received EC Services | H4: Exited or Moved | I4: Received CEIS | J4: Received EC Services
A5: Barton | I5: X
A6: Shoshana | H6: Exited or Moved | I6: X | J6: X
A8: Lucinda | H8: Exited or Moved | I8: X | J8: X
A9: Yasmine | E9: Exited or Moved | G9: X | I9: X | J9: X
A10: Hubert | D10: X | G10: X | I10: X | J10: X
A11: Tyrell | I11: X
A12: Syble | G12: X | I12: X
A13: Randee | I13: X
A14: Allegra | C14: X | F14: X | I14: X
A15: Agatha | F15: X | I15: X
A16: Marcie | I16: X
A17: Tiffani | D17: X | I17: X
A18: Winifred | C18: X | I18: X
A19: Alejandro | F19: X
A20: Krystina | F20: X
A21: Coral | E21: Exited or Moved | F21: X | G21: X
A22: Truman | D22: X | F22: X | G22: X
A23: Blair | D23: X | F23: X | G23: X
A24: Wei | D24: X | F24: X | G24: X
A25: Floria | E25: Exited or Moved | F25: X | G25: X
A26: Mona | C26: X | F26: X
A27: Rickie | C27: X | F27: X
A28: Fredricka | C28: X | F28: X
A29: Aileen | C29: X | F29: X
A30: Annamarie | C30: X
A31: Eleni | C31: X
A32: Adalberto | C32: X
A33: Andres | C33: X | D33: X
A34: Iva | C34: X | D34: X
A35: Domonique | C35: X | D35: X
A36: Idell | C36: X

Sheet LEA Summary
A1: =CONCATENATE((MID(CELL("Filename",J8),SEARCH("]",CELL("Filename",J8),1)+1,100))," ","Student Log") -> LEA Summary Student Log
A2: Totals | C2: =SUM(C5:C5000) -> #REF! | D2: =SUM(D5:D5000) -> #REF! | E2: =SUM(E5:E5000) -> #REF! | F2: =SUM(F5:F5000) -> #REF! | G2: =SUM(G5:G5000) -> #REF! | H2: =SUM(H5:H5000) -> #REF! | I2: =SUM(I5:I5000) -> 27 | J2: =SUM(J5:J5000) -> 8
B3: 2016-17 | C3: 2016-17 | D3: 2016-17 | E3: 2015-16 | F3: 2015-16 | G3: 2015-16 | H3: 2014-15 | I3: 2014-15 | J3: 2014-15
A4: Name | B4: Exited or Moved | C4: Received CEIS | D4: Received EC Services | E4: Exited or Moved | F4: Received CEIS | G4: Received EC Services | H4: Exited or Moved | I4: Received CEIS | J4: Received EC Services
A6: ABC Elem | B6: =CEIS!O2 -> 0 | C6: =CEIS!#REF! -> #REF! | D6: =CEIS!#REF! -> #REF! | E6: =CEIS!#REF! -> #REF! | F6: =CEIS!#REF! -> #REF! | G6: =CEIS!#REF! -> #REF! | H6: =CEIS!#REF! -> #REF! | I6: =CEIS!P2 -> 0 | J6: =CEIS!Q2 -> 0
A7: STAR Elem | B7: ='STAR Elem.'!B2 -> 0 | C7: ='STAR Elem.'!C2 -> 14 | D7: ='STAR Elem.'!D2 -> 10 | E7: ='STAR Elem.'!E2 -> 3 | F7: ='STAR Elem.'!F2 -> 16 | G7: ='STAR Elem.'!G2 -> 8 | H7: ='STAR Elem.'!H2 -> 2 | I7: ='STAR Elem.'!I2 -> 14 | J7: ='STAR Elem.'!J2 -> 4
A8: Top MS | B8: ='Top MS'!B2 -> 0 | C8: ='Top MS'!C2 -> 13 | D8: ='Top MS'!D2 -> 8 | E8: ='Top MS'!E2 -> 3 | F8: ='Top MS'!F2 -> 13 | G8: ='Top MS'!G2 -> 8 | H8: ='Top MS'!H2 -> 2 | I8: ='Top MS'!I2 -> 13 | J8: ='Top MS'!J2 -> 4
